BEGIN:VCALENDAR
PRODID:-//Session events Calendar//IBA//EN
CALSCALE:GREGORIAN
VERSION:2.0
BEGIN:VEVENT
DTSTAMP:20260422T020211Z
DTSTART:20221102T151500Z
DTEND:20221102T163000Z
SUMMARY:US MNCs: caught in the crossfire / caught in the middle
DESCRIPTION:MNCs are facing challenges in the face of legislative changes
  and other post pandemic challenges: including\, supply chain breakdowns
 \, rising cost of capital\, and diversification of manufacturing. This p
 anel will discuss how companies can handle US tax reform\, tax regulatio
 ns in multiple jurisdictions and regions\, state aid\, and source countr
 y revenue thirst. Can the capital exporter rely on investment treaties a
 nd other non-tax treaties for protection?
LOCATION:Room 206\, Level 2
UID:4b4483f5-9256-44b2-835c-8bbaa4ae571b
END:VEVENT
END:VCALENDAR
