BEGIN:VCALENDAR
PRODID:-//Session events Calendar//IBA//EN
CALSCALE:GREGORIAN
VERSION:2.0
BEGIN:VEVENT
DTSTAMP:20260422T020212Z
DTSTART:20221103T151500Z
DTEND:20221103T163000Z
SUMMARY:The spectre at the feast: transparency vs privacy in a global est
 ate planning world
DESCRIPTION:In this session the panel will debate on how we have evolved 
 from the old and by all desired total secrecy and the adage “Vivons heur
 eux\, vivons cachés” in private wealth matters\, to a form of total tran
 sparency towards the (tax) authorities and banks. In a world where “secr
 ecy” is nowadays sometimes even seen as suspicious\, the private client 
 (tax) lawyer will have to guide and direct his client on how to abide by
  all the new and demanding regulations on information exchange and discl
 osure such as UBO registry\, KYC compliance regulations\, DAC6 and other
  comparable reporting obligations\, thereby continuously protecting and 
 safeguarding his client’s privacy within the legal limitations that rema
 in.\n
LOCATION:Room 207\, Level 2
UID:f2bf12b9-8353-4587-89e2-c3e184d21e0e
END:VEVENT
END:VCALENDAR
