BEGIN:VCALENDAR
PRODID:-//Session events Calendar//IBA//EN
CALSCALE:GREGORIAN
VERSION:2.0
BEGIN:VEVENT
DTSTAMP:20260422T033527Z
DTSTART:20221102T183000Z
DTEND:20221102T194500Z
SUMMARY:Trusted jurisdictions – clash of the titans: a comparative primer
  of what to consider when forming your trust and where to form it
DESCRIPTION:Beyond and before the documentation a panel of international 
 experts discuss fundamental issues around pre-planning for structuring a
 nd restructuring. We also look at the differences between emerging and e
 stablished jurisdictions and in the spirit of healthy competition see if
  we can find the ultimate champion jurisdiction. Can we still trust in t
 rusts? Take a ringside seat for some heavyweight competition…
LOCATION:Rooms 201-202\, Level 2
UID:59800f0a-7746-4a99-9a90-a97582753f80
END:VEVENT
END:VCALENDAR
