BEGIN:VCALENDAR
PRODID:-//Session events Calendar//IBA//EN
CALSCALE:GREGORIAN
VERSION:2.0
BEGIN:VEVENT
DTSTAMP:20260422T020155Z
DTSTART:20221102T133000Z
DTEND:20221102T144500Z
SUMMARY:Coming and going part 2: bye bye America - do I need to rethink m
 y estate plans?
DESCRIPTION:In this session we will review common areas of focus for peop
 le leaving the US\, whether they are citizens\, green card holders or me
 re tax residents. We will cover the impact of emigration on their person
 al assets as well as the effect on their various entities: from LLCs and
  grantor trusts\, to corporations and settlements. As a counterbalance t
 o the US angle\, we will have panelists from key jurisdictions discussin
 g how local laws and tax rules will affect the incoming US person.
LOCATION:Room 210\, Level 2
UID:2928f9f5-e45e-4317-9132-7d81f20cc129
END:VEVENT
END:VCALENDAR
