BEGIN:VCALENDAR
PRODID:-//Session events Calendar//IBA//EN
CALSCALE:GREGORIAN
VERSION:2.0
BEGIN:VEVENT
DTSTAMP:20260422T020004Z
DTSTART:20221103T130000Z
DTEND:20221103T141500Z
SUMMARY:Crypto\, blockchain and fintech -  can tax keep pace with technol
 ogy?
DESCRIPTION:New technologies have evolved to make it possible to store da
 ta in an unprecedented manner. New asset classes\, like crypto currencie
 s and non-fungible tokens\, have been created. Can old law apply to such
  new asset classes? This panel will explain how tax laws of the brick-an
 d-mortar time are being applied to transactions in the blockchain and cr
 ypto world and\, where available\, which new laws or guidelines have bee
 n enacted to address the ever-changing universe of the internet\, soon p
 otentially a meta-verse.
LOCATION:Room 210\, Level 2
UID:e72a6160-36fe-46d4-889d-637f019035e6
END:VEVENT
END:VCALENDAR
