BEGIN:VCALENDAR
PRODID:-//Session events Calendar//IBA//EN
CALSCALE:GREGORIAN
VERSION:2.0
BEGIN:VEVENT
DTSTAMP:20260422T020025Z
DTSTART:20221101T133000Z
DTEND:20221101T144500Z
SUMMARY:Challenges and pitfalls of franchising and distribution in Latin 
 America
DESCRIPTION:This session will explore common challenges franchise and dis
 tribution companies face when conducting business in Latin America. This
  session will cover several Latin American countries. Among the issues t
 hat will be covered are franchise disclosure and registration requiremen
 ts\, currency restrictions and foreign exchange risk\, product importati
 on\, multi-concept franchise owners and distributors\, and enforcement.
LOCATION:Room 211\, Level 2
UID:d4eff37e-9d5c-4349-8c13-9b93d8ac1c54
END:VEVENT
END:VCALENDAR
