BEGIN:VCALENDAR
PRODID:-//Session events Calendar//IBA//EN
CALSCALE:GREGORIAN
VERSION:2.0
BEGIN:VEVENT
DTSTAMP:20260422T020042Z
DTSTART:20221102T201500Z
DTEND:20221102T213000Z
SUMMARY:Best practices in supply chain in the post (or continuing) Covid 
 environment\, the war in Ukraine and the impact of digitisation
DESCRIPTION:The increasing digitalisation of the international commerce h
 as been accelerated due to the ongoing Covid-19 pandemic and now the War
  in Ukraine. Economic recovery is still dependent on international comme
 rce increasing and the positive impact of continual improvements in digi
 tal commerce. During the last year or two we have faced issues as the di
 sruption of global supply chains\, arising from factors such as the shor
 tage of raw materials\, commodities and as well due to trade barriers an
 d restrictions to the movement of people\, enacted in the world to count
 er the pandemic spreading or due to the War. Digitisation in this contex
 t has helped businesses to increase their resilience and helped to optim
 ize processes of manufacturing and distribution along the supply chain. 
 Our panel of experts will treat these and other topics of high relevance
  for the international commerce. Specific consideration will be given to
  particular industries more impacted by this important trend.
LOCATION:Rooms 201-202\, Level 2
UID:dff50a0b-7168-4b6a-ba2e-a11a0f060b20
END:VEVENT
END:VCALENDAR
