BEGIN:VCALENDAR
PRODID:-//Session events Calendar//IBA//EN
CALSCALE:GREGORIAN
VERSION:2.0
BEGIN:VEVENT
DTSTAMP:20260422T020024Z
DTSTART:20221101T201500Z
DTEND:20221101T213000Z
SUMMARY:Certainty and uncertainty: the new trends and opportunities of Ch
 ina outbound investment in the world
DESCRIPTION:As China is determined to open itself up further at a high st
 andard to the world and share market opportunities with other countries 
 for a community of shared future for the mankind\, a lot of uncertaintie
 s include the pandemic\, change of climate and international relationshi
 p arising at the same time in today’s world will bring changes to the fl
 ow and activities of China’s outbound investment. The China session will
  review the new trends of China’s investment activities in the world and
  discuss the opportunities brought by the collision of such uncertaintie
 s of the world with China’s certainty of determination.\n\nThis session 
 will provide a broader picture from global perspective of the new trends
  of China’s outbound investment and the related hot topics\, trying to p
 rovide a vivid vision to the audience which goes beyond the specific leg
 al issues in specialized legal areas. The discussion will focus on the c
 hanges of industries which attracts China’s investments\, the social res
 ponsibilities that Chinese investors undertakes in the local community\,
  the recent development in One Belt and One Road regions and the opportu
 nities arisen from such changes and development. Meanwhile\, the recent 
 cases will also be studied during the discussion. The experts from China
 \, Europe\, America and Asia will be invited to participate in the discu
 ssion.\n
LOCATION:Room 237\, Level 2
UID:68e4dfcc-5fb8-4c61-81d4-162c593ecddb
END:VEVENT
END:VCALENDAR
