BEGIN:VCALENDAR
PRODID:-//Session events Calendar//IBA//EN
CALSCALE:GREGORIAN
VERSION:2.0
BEGIN:VEVENT
DTSTAMP:20260422T020043Z
DTSTART:20221031T183000Z
DTEND:20221031T194500Z
SUMMARY:Contracting of IT assets (digitalisation 2.0) in an increasingly 
 complex regulatory environment 
DESCRIPTION:The panel will seek to address contracting\, transacting and 
 other challenges of outsourcing within emerging sectors\, like Fintech\,
  against the background of regulatory requirements such as financial ser
 vices regulation\, delivery chain requirements\, CSR\, cybersecurity\, a
 nd related issues. An example would be the revised Payment Service Provi
 ders Directive (PSD2) which introduced massive change to the payments se
 ctor.
LOCATION:Room 229 B\, Level 2
UID:f7514400-cb66-41d8-a54a-4b6decfc351b
END:VEVENT
END:VCALENDAR
