BEGIN:VCALENDAR
PRODID:-//Session events Calendar//IBA//EN
CALSCALE:GREGORIAN
VERSION:2.0
BEGIN:VEVENT
DTSTAMP:20260422T020023Z
DTSTART:20221101T151500Z
DTEND:20221101T163000Z
SUMMARY:Miami Vice\, IP & leisure 
DESCRIPTION:Leisure and intellectual property in the magic city!\n\nThe p
 anel will explore a multitude of IP issues\, strategies and challenges a
 s they relate to recreational and non-recreational Cannabis and two area
 s Miami is famous for: tattoos and NFTs\, including Digital Art and Coll
 ectibles. And to top it off\, the panel will link IP issues in Cannabis 
 and tattoos to the evolving reality of the metaverse. The session will c
 onfirm once again that IP is everywhere.\n
LOCATION:Room 206\, Level 2
UID:d39a998e-d1c2-4d68-ad5b-370367b5d512
END:VEVENT
END:VCALENDAR
