BEGIN:VCALENDAR
PRODID:-//Session events Calendar//IBA//EN
CALSCALE:GREGORIAN
VERSION:2.0
BEGIN:VEVENT
DTSTAMP:20260422T020040Z
DTSTART:20221102T151500Z
DTEND:20221102T163000Z
SUMMARY:“Faction” (mix of fiction and facts\, personality rights etc.)   
 
DESCRIPTION:The panel will discuss the boundaries of the First Amendment 
 and Fair Use as applied to television series\, documentaries\, docuserie
 s\, and videos. We will explore the legality of using (i) AI to create /
  recreate individual’s personality rights\; (ii) personality rights in a
  television series/docuseries\; (iii) to endorse goods/services\; and (i
 v) how countries without a First Amendment deal with these issues.
LOCATION:Room 229 B\, Level 2
UID:60761ecf-7ba6-411e-8128-c772920acf61
END:VEVENT
END:VCALENDAR
