BEGIN:VCALENDAR
PRODID:-//Session events Calendar//IBA//EN
CALSCALE:GREGORIAN
VERSION:2.0
BEGIN:VEVENT
DTSTAMP:20260422T020025Z
DTSTART:20221031T201500Z
DTEND:20221031T213000Z
SUMMARY:Space … the final frontier - lawless “wild west” or united worldw
 ide joint prosperity
DESCRIPTION:As technology advances continually open up the ability for th
 e world to re-engage in space\, will the world be able to provide stabil
 ity and consensus to countries capable of participating in research and 
 exploration in Space. The panel will discuss international treaties and 
 agreements already gathering momentum and members\, along with changes t
 o national legal systems to incorporate issues relating to space that ha
 ve ramifications outside of their borders. The issues are many\, includi
 ng\, intellectual property rights\, insurance coverage\, environmental c
 oncerns\, and so much more.
LOCATION:Room 232\, Level 2
UID:ce66b10d-fa86-487a-a96b-1c949f381740
END:VEVENT
END:VCALENDAR
