BEGIN:VCALENDAR
PRODID:-//Session events Calendar//IBA//EN
CALSCALE:GREGORIAN
VERSION:2.0
BEGIN:VEVENT
DTSTAMP:20260422T020041Z
DTSTART:20221103T151500Z
DTEND:20221103T163000Z
SUMMARY:New supplies: developing alternatives to address water scarcity
DESCRIPTION:A changing climate is having direct impacts on variability of
  water supply for drinking\, agricultural\, mining and other activities.
  Like other natural resources\, as supplies change or become more scarce
 \, there is a need to unlock new supplies that may have previously been 
 considered too expensive or difficult to access. This panel will explore
  different and innovative methods around the world allowing access to ad
 ditional sources of water\, including reuse\, desalinisation\, changes i
 n ownership regimes\, underground basin infiltration\, transporting ice 
 water and other methods of developing supplies.
LOCATION:Room 234\, Level 2
UID:ab7647ea-b603-47f0-9d4d-5082d7aacc90
END:VEVENT
END:VCALENDAR
