BEGIN:VCALENDAR
PRODID:-//Session events Calendar//IBA//EN
CALSCALE:GREGORIAN
VERSION:2.0
BEGIN:VEVENT
DTSTAMP:20260422T020040Z
DTSTART:20221031T201500Z
DTEND:20221031T213000Z
SUMMARY:Regulation of the energy transition and role of lawyers as its en
 ablers
DESCRIPTION:There are multiple challenges and opportunities for the oil a
 nd gas industry in the current decarbonisation context whilst the demand
  for energy resources continues to grow. How can nimble and progressive 
 regulatory and contractual frameworks contribute to making this transiti
 on fast\, fair\, equitable\, sustainable and efficient\, achieving clima
 te\, development and energy objectives? Discussion will focus on the reg
 ulatory/contractual challenges of the energy transition and on the role 
 of oil and gas lawyers as they help develop social\, technological\, fin
 ancial\, fiscal and contractual frameworks and tools for decarbonisation
 . Hydrogen and CCUS legal instruments will be also be discussed in this 
 session.
LOCATION:Room 237\, Level 2
UID:51b2641c-d3f8-4bb1-8a16-333f28789d96
END:VEVENT
END:VCALENDAR
