BEGIN:VCALENDAR
PRODID:-//Session events Calendar//IBA//EN
CALSCALE:GREGORIAN
VERSION:2.0
BEGIN:VEVENT
DTSTAMP:20260422T021035Z
DTSTART:20221103T183000Z
DTEND:20221103T194500Z
SUMMARY:Climate litigation in oil and gas industry: new challenges\, new 
 claims
DESCRIPTION:With the increase in awareness of environmental rights\, clim
 ate change litigation is rapidly evolving with novel claims and theories
  being tested around the world. At the same time\, judicial doctrine and
  decisions are creating challenges for both plaintiffs and defendants\, 
 including governments and industries. What can we expect from climate-re
 lated litigation against oil and gas companies moving forward? What is t
 he role of Alternative Dispute Resolutions (ADR) under Oil &amp\; Gas re
 lated disputes? These and other important climate litigation issues will
  be discussed by our panel.
LOCATION:Room 236\, Level 2
UID:66ea6387-ecae-4adc-9702-241031130aaf
END:VEVENT
END:VCALENDAR
