BEGIN:VCALENDAR
PRODID:-//Session events Calendar//IBA//EN
CALSCALE:GREGORIAN
VERSION:2.0
BEGIN:VEVENT
DTSTAMP:20260422T020039Z
DTSTART:20221031T183000Z
DTEND:20221031T194500Z
SUMMARY:Fireside chat on impacts of the Russian invasion of Ukraine on mi
 nerals supply
DESCRIPTION:The unprovoked Russian invasion of Ukraine has had tremendous
  impacts on energy and food supply. Impacts of sanctions and Russian att
 empts to influence Europe by reducing hydrocarbon supply has resulted in
  an energy crisis which has dominated the recent public discussion. Less
  attention has been given to the impacts of the invasion on minerals sup
 ply from Ukraine\, Russia and the minerals supply globally. The session 
 will focus on how the war impacts the future possibilities of developing
  mineral resources in Ukraine\, Russia’s ability to trade and develop mi
 neral resources and global supply more widely.
LOCATION:Room 211\, Level 2
UID:c2512934-73d7-4397-a5e6-3e4fb657dd0e
END:VEVENT
END:VCALENDAR
