BEGIN:VCALENDAR
PRODID:-//Session events Calendar//IBA//EN
CALSCALE:GREGORIAN
VERSION:2.0
BEGIN:VEVENT
DTSTAMP:20260422T033640Z
DTSTART:20221102T183000Z
DTEND:20221102T194500Z
SUMMARY:Strategic minerals and electrification of traffic
DESCRIPTION:Measures to combat climate change such as new forms of renewa
 ble energy production\, energy storage and technologies for mobility has
  created a significant need for new types of minerals and new ways of ut
 ilising existing old ones.
LOCATION:Room 235\, Level 2
UID:c46bf2bb-a5f5-4677-af43-47ca5a7423da
END:VEVENT
END:VCALENDAR
