BEGIN:VCALENDAR
PRODID:-//Session events Calendar//IBA//EN
CALSCALE:GREGORIAN
VERSION:2.0
BEGIN:VEVENT
DTSTAMP:20260422T020040Z
DTSTART:20221031T183000Z
DTEND:20221031T194500Z
SUMMARY:A new era of collaboration? The rise of multi-party and alliancin
 g contracting
DESCRIPTION:Collaboration has been much discussed in the construction ind
 ustry but has often been elusive. However\, to meet the needs of both la
 rge-scale and complex infrastructure contracts\, often involving cutting
 -edge processes and technologies\, and the plethora of other constructio
 n and engineering projects which require to be delivered\, there is an i
 ncrease in popularity of non-traditional forms of contracting – framewor
 k agreements\, multi-party contracts and alliancing contracting. These a
 re not yet the go-to procurement or delivery routes but there is a clear
  direction of travel towards more collaborative forms of contracting. Th
 is session will explore whether we are entering a new era of collaborati
 ve working in the infrastructure\, construction and engineering sector a
 nd the models being developed to support this.
LOCATION:Room 209\, Level 2
UID:c3ba3caf-1778-4e32-b836-7155a3b65fba
END:VEVENT
END:VCALENDAR
