BEGIN:VCALENDAR
PRODID:-//Session events Calendar//IBA//EN
CALSCALE:GREGORIAN
VERSION:2.0
BEGIN:VEVENT
DTSTAMP:20260422T020022Z
DTSTART:20221101T201500Z
DTEND:20221101T213000Z
SUMMARY:SUSTAINABILITY FOCUS  Sustainable project decommissioning - reali
 ty or utopia?
DESCRIPTION:SustainabilityFocusSustainable construction and project deliv
 ery methods are gaining significant importance across the world and mark
 ing a clear trend as governments and financiers toughen regulations and 
 requirements aimed at meeting national and global environmental protecti
 on and social accountability policies. But what happens when infrastruct
 ure projects reach the end of their intended lifetime? Departing from th
 e concept that decommissioning is not simply the reverse of construction
 \, this session will explore the complexities\, processes\, risks\, resp
 onsibilities and challenges derived from the increasing need to apply su
 stainability principles to project decommissioning\, with a particular f
 ocus on their impact and feasibility on developing economies.\n\nSUSTAIN
 ABILITY FOCUS sessions marked as such are part of the IBA Annual Confere
 nce 2022 sustainability focus on Tuesday and Thursday\, grouping session
 s discussing different aspects of ESG and sustainability across the diff
 erent legal fields.\n
LOCATION:Room 208\, Level 2
UID:a31a1d03-192e-4103-a5bb-62b2b02760dd
END:VEVENT
END:VCALENDAR
