BEGIN:VCALENDAR
PRODID:-//Session events Calendar//IBA//EN
CALSCALE:GREGORIAN
VERSION:2.0
BEGIN:VEVENT
DTSTAMP:20260422T021122Z
DTSTART:20221103T183000Z
DTEND:20221103T194500Z
SUMMARY:SUSTAINABILITY FOCUS  Impact of ESG in construction and infrastru
 cture projects – implications for financing\, procurement strategies and
  delivery
DESCRIPTION:SustainabilityFocusEnvironmental\, social and governance (ESG
 ) criteria are increasingly coming to the fore in the minds of governmen
 ts\, investors and consumers. Governments are increasing regulation in a
 reas such as gender\, racial\, and socio-economic diversity\, corporate 
 governance and anti-bribery and corruption regulation of companies. Busi
 nesses are making commitments to shareholders and the markets in which t
 hey operate in relation to their ESG credentials. Consumers are increasi
 ngly using their collective voice to drive change. The construction sect
 or is particularly exposed to ESG considerations\, particularly in relat
 ion to its sustainability credentials but also in other areas. This sess
 ion will explore the impact of ESG in construction and infrastructure pr
 ojects and the implications for financing\, procurement strategies and d
 elivery.\n\nSUSTAINABILITY FOCUS sessions marked as such are part of the
  IBA Annual Conference 2022 sustainability focus on Tuesday and Thursday
 \, grouping sessions discussing different aspects of ESG and sustainabil
 ity across the different legal fields.\n
LOCATION:Room 208\, Level 2
UID:90628b7f-36a0-4171-b89c-c78d9ad6c881
END:VEVENT
END:VCALENDAR
