BEGIN:VCALENDAR
PRODID:-//Session events Calendar//IBA//EN
CALSCALE:GREGORIAN
VERSION:2.0
BEGIN:VEVENT
DTSTAMP:20260422T020154Z
DTSTART:20221031T151500Z
DTEND:20221031T163000Z
SUMMARY:Infrastructure projects in developing countries: challenges\, opp
 ortunities and the role of multilateral agencies and their model contrac
 t forms
DESCRIPTION:Governments around the world are looking to investment in inf
 rastructure as one of the key tools to drive economic recovery. The need
  for massive spend on infrastructure globally in order to tackle climate
  change is also clear. This session will explore the particular challeng
 es and opportunities related to financing\, procuring and delivering inf
 rastructure projects in developing countries including the role of multi
 lateral agencies.
LOCATION:Room 207\, Level 2
UID:4937cf99-4199-4d68-abab-494ffa1e5e60
END:VEVENT
END:VCALENDAR
