BEGIN:VCALENDAR
PRODID:-//Session events Calendar//IBA//EN
CALSCALE:GREGORIAN
VERSION:2.0
BEGIN:VEVENT
DTSTAMP:20260422T020039Z
DTSTART:20221101T183000Z
DTEND:20221101T194500Z
SUMMARY:Civil liability of multinational electronic platforms such as Ube
 r and AirBnB
DESCRIPTION:The objective of the session is to discuss how multinational 
 electronic platforms such as Uber and AirBnB are being held liable or no
 t liable for similar actions in different jurisdictions. The panel will 
 try to answer the question about the existence of a single or multiple p
 rinciples guiding lawmakers and courts around the globe in regard with a
 ccountability of electronic platforms for their wrongdoings.
LOCATION:Room 210\, Level 2
UID:6962805e-44cc-4328-8a33-eff5c236421b
END:VEVENT
END:VCALENDAR
