BEGIN:VCALENDAR
PRODID:-//Session events Calendar//IBA//EN
CALSCALE:GREGORIAN
VERSION:2.0
BEGIN:VEVENT
DTSTAMP:20260422T020043Z
DTSTART:20221101T151500Z
DTEND:20221101T163000Z
SUMMARY:SUSTAINABILITY FOCUS  Turning up the heat to slow global warming 
 - an update on global climate change class actions
DESCRIPTION:SustainabilityFocusWhere there is an apparent failure of gove
 rnments\, corporates and other "entrusted" institutions to act in the be
 st interests of the community as a whole\, the law and in particular cla
 ss actions emerge to seek to hold those responsible to account. This ses
 sion will take the temperature of the current state of global climate ch
 ange class actions and try and look over the horizon at the next wave of
  climate change litigation.\n\nSUSTAINABILITY FOCUS sessions marked as s
 uch are part of the IBA Annual Conference 2022 sustainability focus on T
 uesday and Thursday\, grouping sessions discussing different aspects of 
 ESG and sustainability across the different legal fields.\n
LOCATION:Room 236\, Level 2
UID:01950851-d76e-4bdc-8a83-93eaf47491b5
END:VEVENT
END:VCALENDAR
