BEGIN:VCALENDAR
PRODID:-//Session events Calendar//IBA//EN
CALSCALE:GREGORIAN
VERSION:2.0
BEGIN:VEVENT
DTSTAMP:20260422T020025Z
DTSTART:20221103T133000Z
DTEND:20221103T144500Z
SUMMARY:Is it time for uniform rules of privilege in international arbitr
 ation?
DESCRIPTION:The Arbitration Committee has launched a task force on unifor
 m rules of privilege. This session will discuss the result of the works 
 of the task force.
LOCATION:Room 229 A\, Level 2
UID:9e5d82b6-8946-492f-8d37-d99ed0a62281
END:VEVENT
END:VCALENDAR
