BEGIN:VCALENDAR
PRODID:-//Session events Calendar//IBA//EN
CALSCALE:GREGORIAN
VERSION:2.0
BEGIN:VEVENT
DTSTAMP:20260422T020026Z
DTSTART:20221101T183000Z
DTEND:20221101T194500Z
SUMMARY:The power of arbitrators to remove counsel\, one step too far?
DESCRIPTION:Various rules have been modified recently to grant arbitrator
 s authority to exclude counsel. Many practitioners believe this is going
  too far. This session will discuss this topic.
LOCATION:Room 229 B\, Level 2
UID:0ef3abc4-d696-48cb-a254-c4973c8f6fd1
END:VEVENT
END:VCALENDAR
