BEGIN:VCALENDAR
PRODID:-//Session events Calendar//IBA//EN
CALSCALE:GREGORIAN
VERSION:2.0
BEGIN:VEVENT
DTSTAMP:20260422T020040Z
DTSTART:20221031T201500Z
DTEND:20221031T213000Z
SUMMARY:Requests for early dismissal – dos and don'ts
DESCRIPTION:Requests for early dismissal are a relatively new topic. The 
 session will comprise of counsel and arbitrators discussing how they ope
 rate in practice.
LOCATION:Room 210\, Level 2
UID:80d30f51-b91b-4090-a984-3b12f8f09db7
END:VEVENT
END:VCALENDAR
