BEGIN:VCALENDAR
PRODID:-//Session events Calendar//IBA//EN
CALSCALE:GREGORIAN
VERSION:2.0
BEGIN:VEVENT
DTSTAMP:20260422T033641Z
DTSTART:20221104T133000Z
DTEND:20221104T144500Z
SUMMARY:Investment treaty arbitration: highlights and lowlights of 2022
DESCRIPTION:The classic session devoted to recent evolutions in investmen
 t arbitration.This year the Committee will analyse the recent paradigmat
 ic in investment arbitration.
LOCATION:Room 207\, Level 2
UID:4622524d-579f-471b-8f0c-2d646e03e676
END:VEVENT
END:VCALENDAR
