BEGIN:VCALENDAR
PRODID:-//Session events Calendar//IBA//EN
CALSCALE:GREGORIAN
VERSION:2.0
BEGIN:VEVENT
DTSTAMP:20260422T020041Z
DTSTART:20221031T151500Z
DTEND:20221031T163000Z
SUMMARY:The role of investigative journalists in uncovering misconduct 
DESCRIPTION:A discussion of the role of investigative journalists in comb
 atting crime and\, relatedly\, the role of professional enablers as so o
 ften uncovered by journalists (see e.g. Pandora Papers).
LOCATION:Room 237\, Level 2
UID:972a462e-19bf-460c-9a08-f2a74a50a79d
END:VEVENT
END:VCALENDAR
