BEGIN:VCALENDAR
PRODID:-//Session events Calendar//IBA//EN
CALSCALE:GREGORIAN
VERSION:2.0
BEGIN:VEVENT
DTSTAMP:20260422T033624Z
DTSTART:20221102T183000Z
DTEND:20221102T194500Z
SUMMARY:Crypto\, sanctions and AML - where the worlds collide
DESCRIPTION:The panel will explore the legal and illegal use of crypto as
 sets\, the application of sanctions and anti-money laundering (AML) regu
 lations to the space\, and the challenges practitioners and enforcement 
 authorities face in ensuring compliance.
LOCATION:Room 206\, Level 2
UID:cff2e298-a039-4033-aafb-9a84da7a6e2c
END:VEVENT
END:VCALENDAR
