BEGIN:VCALENDAR
PRODID:-//Session events Calendar//IBA//EN
CALSCALE:GREGORIAN
VERSION:2.0
BEGIN:VEVENT
DTSTAMP:20260422T015852Z
DTSTART:20221101T201500Z
DTEND:20221101T213000Z
SUMMARY:The reparations debate
DESCRIPTION:The reparation movement is one of the most pressing internati
 onally and it presents some very challenging jurisprudential problems wo
 rldwide regarding the very concept of damages and the assessment and qua
 ntum of damages and the availability of other remedies. The aim of the p
 anel will be to discuss how these challenges shall be addressed locally 
 and internationally.\n
LOCATION:Room 234\, Level 2
UID:241d12d2-df80-478b-a5e9-82fd0669c5cd
END:VEVENT
END:VCALENDAR
