BEGIN:VCALENDAR
PRODID:-//Session events Calendar//IBA//EN
CALSCALE:GREGORIAN
VERSION:2.0
BEGIN:VEVENT
DTSTAMP:20260422T001433Z
DTSTART:20221031T133000Z
DTEND:20221031T144500Z
SUMMARY:Refugee issues challenging the Americas
DESCRIPTION:From Venezuela to Haiti to Central America and elsewhere\, re
 fugee migration is challenging countries throughout the Americas. Our ex
 perts discuss where we are in 2022.
LOCATION:Room 236\, Level 2
UID:c6abd8e0-871f-45bc-ac08-dfc0078e7374
END:VEVENT
END:VCALENDAR
