BEGIN:VCALENDAR
PRODID:-//Session events Calendar//IBA//EN
CALSCALE:GREGORIAN
VERSION:2.0
BEGIN:VEVENT
DTSTAMP:20260421T190817Z
DTSTART:20221102T183000Z
DTEND:20221102T194500Z
SUMMARY:Protection of trade secrets by multinational corporations in a cr
 oss-border and remote work setting
DESCRIPTION:Cross-border and remote work has significantly increased in t
 he post-Covid19 world. Protecting confidential information and enforcing
  restrictions not to compete\, now have a number of challenges\, when em
 ployees are not bound by a specific territory and can work from anywhere
  (WFA)\, thanks to the digital age. Drafting of non-disclosure agreement
 s and restrictive covenants will now need to reflect the new WFA scenari
 o. This session will cover how best to protect the interests of the comp
 any in this digital context.
LOCATION:Room 232\, Level 2
UID:aef58d0b-a40b-493e-85d8-063bb8565645
END:VEVENT
END:VCALENDAR
