BEGIN:VCALENDAR
PRODID:-//Session events Calendar//IBA//EN
CALSCALE:GREGORIAN
VERSION:2.0
BEGIN:VEVENT
DTSTAMP:20260422T015852Z
DTSTART:20221102T133000Z
DTEND:20221102T144500Z
SUMMARY:New developments on AI inside the workplace
DESCRIPTION:The impact algorisms and other forms of Artificial Intelligen
 ce in the workplace is significantly increasing. From hiring to terminat
 ion\, the employment relationship is bound by the potential directions g
 iven by Artificial Intelligence. New developments on AI in the workplace
  face a number of legal uncertainties that will be explained as part of 
 this session.\n
LOCATION:Room 211\, Level 2
UID:f9f4d9f6-238d-47d2-82d7-77cd1403d865
END:VEVENT
END:VCALENDAR
