BEGIN:VCALENDAR
PRODID:-//Session events Calendar//IBA//EN
CALSCALE:GREGORIAN
VERSION:2.0
BEGIN:VEVENT
DTSTAMP:20260422T015851Z
DTSTART:20221031T201500Z
DTEND:20221031T213000Z
SUMMARY:Whistleblowing and retaliation claims in multinational companies 
 and law firms
DESCRIPTION:Whistleblowing complaints are becoming more and important on 
 employee relations. The implementation of the EU Whistleblower Directive
 \, and the development of extra-territorial rules for US based companies
  have created a new set of legal rules and practices that will be discus
 sed on this session.
LOCATION:Rooms 201-202\, Level 2
UID:016d7bce-d065-48f6-b97a-0b9b20cdad92
END:VEVENT
END:VCALENDAR
