BEGIN:VCALENDAR
PRODID:-//Session events Calendar//IBA//EN
CALSCALE:GREGORIAN
VERSION:2.0
BEGIN:VEVENT
DTSTAMP:20260422T015843Z
DTSTART:20221103T151500Z
DTEND:20221103T163000Z
SUMMARY:The employment landscape in the new normal: Covid-19 a diversity 
 catalyst or a diversity catastrophe?
DESCRIPTION:DiversityInclusionThe pandemic has disrupted the lives of man
 y and has had a major impact on workplaces across the globe. As countrie
 s emerge from the pandemic in 2022\, we take stock of what Covid-19 has 
 meant for diversity and equality and whether Covid-19 has been an unexpe
 cted diversity catalyst for positive change or has had a disproportionat
 e impact on certain sectors and further entrenched disadvantage? In eith
 er case\, governments and the public and private sector have a crucial r
 ole to play in developing diversity responsive recovery policies and ini
 tiatives\, to ensure we 'build forward fairer' consistent with the ILO's
  global call to action for a human-centred recovery from the Covid-19 cr
 isis that is 'inclusive\, sustainable and resilient.' This session will 
 cover: - socio-economic impact of the Covid-19 Pandemic on global labour
  markets and workplaces - case studies from across the globe - role of g
 overnments and the public and private sectors in developing and implemen
 ting diversity-responsive policies and initiatives for the Covid-19 reco
 very.
LOCATION:Rooms 233\, Level 2
UID:e490fda6-c33b-4f13-a254-0231a27274d9
END:VEVENT
END:VCALENDAR
