BEGIN:VCALENDAR
PRODID:-//Session events Calendar//IBA//EN
CALSCALE:GREGORIAN
VERSION:2.0
BEGIN:VEVENT
DTSTAMP:20260422T015904Z
DTSTART:20221101T201500Z
DTEND:20221101T213000Z
SUMMARY:What’s all this I hear about sand boxes? Regulatory innovation an
 d access to justice 
DESCRIPTION:The struggle to address the global access to justice and acce
 ss to legal services crises continues\, with the pandemic having taken i
 ts toll on those in need. Efforts to innovate and re-imagine the deliver
 y of legal services have taken a new turn\, one that includes permitting
  alternative business structures and professionals other than lawyers de
 livering legal services direct to consumers. In a growing number of juri
 sdictions\, regulators and the organized bar have begun implementing lim
 ited\, supervised testing of new methods of delivery via a policy tool c
 alled a regulatory sandbox. What is a sandbox and how does it work? Can 
 it really increase access and do so in a way that preserves professional
  values and public protection?Experts directly involved with their imple
 mentation will tackle these and other questions.\n
LOCATION:Room 207\, Level 2
UID:fdbce28d-05f0-4c38-a9ad-6265d63a1de7
END:VEVENT
END:VCALENDAR
