BEGIN:VCALENDAR
PRODID:-//Session events Calendar//IBA//EN
CALSCALE:GREGORIAN
VERSION:2.0
BEGIN:VEVENT
DTSTAMP:20260422T020006Z
DTSTART:20221101T201500Z
DTEND:20221101T213000Z
SUMMARY:SUSTAINABILITY FOCUS  ESG and its impact on lawyers and businesse
 s 
DESCRIPTION:SustainabilityFocusYoungLawyersClients and prospective client
 s want to see law firms “walk the walk and talk the talk”. They are more
  interested than ever in a business’s commitment to the environment\, it
 s people and the running of its business in an ethical and sustainable m
 anner. Although law firms might be part of the services industry with a 
 lighter environmental footprint than other industries\, a law firm's imp
 act on the environment goes beyond its energy usage and paper waste. It 
 extends to the clients it works with\, the example itsets to its employe
 es and especially young lawyers and the impact of its work within commun
 ities and industries. How can law firms and businesses not just do what 
 is "best in the world" but also "best for the world"?\n\nSUSTAINABILITY 
 FOCUS sessions marked as such are part of the IBA Annual Conference 2022
  sustainability focus on Tuesday and Thursday\, grouping sessions discus
 sing different aspects of ESG and sustainability across the different le
 gal fields.\n
LOCATION:Room 229 B\, Level 2
UID:e9e3425a-0c23-4916-a996-9459d5a2f688
END:VEVENT
END:VCALENDAR
