BEGIN:VCALENDAR
PRODID:-//Session events Calendar//IBA//EN
CALSCALE:GREGORIAN
VERSION:2.0
BEGIN:VEVENT
DTSTAMP:20260422T021007Z
DTSTART:20221103T183000Z
DTEND:20221103T194500Z
SUMMARY:Law firms and in-house departments: how to succeed in this long t
 erm relationship
DESCRIPTION:YoungLawyersMultinational companies often need to team up wit
 h external counsel to address the complex issues that arise in today’s m
 odern economy. A solid working relationship between in-house counsel and
  law firms can be a crucial element for a company’s long-term success. W
 hen is external counsel needed? How are they selected? What do in-house 
 counsel expect from the law firms they hire? What kind of billing arrang
 ements\, training\, and communication requirements facilitate a smooth w
 orking relationship? How do both sides view the pros and cons of secondm
 ents? What are hot topics in this area (e.g.\, cross-border data privacy
 \, corruption prevention efforts\, cultural differences\, ethics\, etc.)
 ? This panel of corporate counsel\, government lawyers\, and law firm at
 torneys will provide insights on these questions.
LOCATION:Room 206\, Level 2
UID:9ce0f1d3-9032-456c-95b3-9485c2420706
END:VEVENT
END:VCALENDAR
