BEGIN:VCALENDAR
PRODID:-//Session events Calendar//IBA//EN
CALSCALE:GREGORIAN
VERSION:2.0
BEGIN:VEVENT
DTSTAMP:20260422T020259Z
DTSTART:20221031T133000Z
DTEND:20221031T144500Z
SUMMARY:Young lawyers' introductory session
DESCRIPTION:YoungLawyersPresentation of the Young Lawyers' Committee and 
 its activities and projects by its Officers. You will learn how you can 
 contribute and get involved in the Young Lawyers' Committee. This sessio
 n will also include a presentation of the highlight of the IBA Young Law
 yers’ Report released earlier this year.
LOCATION:Room 210\, Level 2
UID:effe589d-c1a1-4bf9-b89e-29bdb627d7af
END:VEVENT
END:VCALENDAR
