BEGIN:VCALENDAR
PRODID:-//Session events Calendar//IBA//EN
CALSCALE:GREGORIAN
VERSION:2.0
BEGIN:VEVENT
DTSTAMP:20260422T020040Z
DTSTART:20221101T183000Z
DTEND:20221101T194500Z
SUMMARY:SUSTAINABILITY FOCUS  Diversity and inclusion in an ESG perspecti
 ve
DESCRIPTION:SustainabilityFocusD&amp\;I is commonly seen as a crucial com
 ponent of the social pillar of ESG. Media and from institutional investo
 rs are now incorporating ESG considerations within their investment proc
 esses. How can a proper D&amp\;I policy improve company performances? Ar
 e there reliable metrics\, key performance indicators or certification p
 rocesses? And what are law firms doing to face the increasing clients' d
 emand for better inclusion in the legal profession\, is the Mansfield ru
 le a model?\n\nSUSTAINABILITY FOCUS sessions marked as such are part of 
 the IBA Annual Conference 2022 sustainability focus on Tuesday and Thurs
 day\, grouping sessions discussing different aspects of ESG and sustaina
 bility across the different legal fields.\n
LOCATION:Room 207\, Level 2
UID:3dca35fd-1fb3-45d7-b3f9-4f8d197ed30a
END:VEVENT
END:VCALENDAR
