BEGIN:VCALENDAR
PRODID:-//Session events Calendar//IBA//EN
CALSCALE:GREGORIAN
VERSION:2.0
BEGIN:VEVENT
DTSTAMP:20260422T020005Z
DTSTART:20221103T133000Z
DTEND:20221103T144500Z
SUMMARY:Obligations of boards and executive committees with respect to SH
 E-cession
DESCRIPTION:The interactive panel discussion will cover the growing cross
 -jurisdictional requirements (regulatory\, stock exchange driven and mar
 ket-based) to include greater representation of women on boards of direc
 tors\, the drivers of these requirements and how boards can meet (and ar
 e meeting) these requirements. This will include a discussion of process
  integration and strategies to grow the number of women on boards\, and 
 the responsibilities of decision makers and influencers as they relate t
 o this necessary evolution.
LOCATION:Room 209\, Level 2
UID:df4c8db1-f565-4afd-96c3-89228c5edc0f
END:VEVENT
END:VCALENDAR
