BEGIN:VCALENDAR
PRODID:-//Session events Calendar//IBA//EN
CALSCALE:GREGORIAN
VERSION:2.0
BEGIN:VEVENT
DTSTAMP:20260422T020004Z
DTSTART:20221102T183000Z
DTEND:20221102T194500Z
SUMMARY:What does the post-pandemic future hold for independent law firms
 ?
DESCRIPTION:This session will explore the challenges posed to independent
  law firms by the recent disruptions caused by global trade wars\, risin
 g nationalism and public-health risks among others. Representatives of i
 ndependent law firms from around the world will discuss their approach t
 o meeting the cross-border needs of their clients as they seek out oppor
 tunities in rapidly changing markets.\n\n\n
LOCATION:Rooms 211\, Level 2
UID:cf1e5c5c-09a0-4560-8198-ea0237350232
END:VEVENT
END:VCALENDAR
