BEGIN:VCALENDAR
PRODID:-//Session events Calendar//IBA//EN
CALSCALE:GREGORIAN
VERSION:2.0
BEGIN:VEVENT
DTSTAMP:20260422T015955Z
DTSTART:20221101T133000Z
DTEND:20221101T144500Z
SUMMARY:International strategy and the IBA
DESCRIPTION:YoungLawyersBuilding and developing an international strategy
  and its implementation\; including the utilisation of all available too
 ls such as the IBA and National Law/Bar Associations etc. The relevant e
 xperience of senior and successful practitioners in discussion with a gr
 oup of younger lawyers.\n
LOCATION:Room 232\, Level 2
UID:daee7734-621f-449c-a93c-46eba9c96932
END:VEVENT
END:VCALENDAR
