BEGIN:VCALENDAR
PRODID:-//Session events Calendar//IBA//EN
CALSCALE:GREGORIAN
VERSION:2.0
BEGIN:VEVENT
DTSTAMP:20260422T020004Z
DTSTART:20221103T151500Z
DTEND:20221103T163000Z
SUMMARY:The impact of cultural differences in ethical obligations and how
  global law firms to sole practitioners manage such differences
DESCRIPTION:From global law firms to local practices\, differences in a l
 awyer's ethical obligations and the cultural underpinnings of those obli
 gations impact the way in which ethical obligations in law practices are
  implemented. This panel considers the complexities of adhering to ethic
 al obligations within and across jurisdictions\, and discusses strategie
 s to assist in lawyers fulfilling their ethical obligations.
LOCATION:Rooms 232\, Level 2
UID:2fcdeccc-e251-4c54-a400-b3659c43bdc2
END:VEVENT
END:VCALENDAR
