BEGIN:VCALENDAR
PRODID:-//Session events Calendar//IBA//EN
CALSCALE:GREGORIAN
VERSION:2.0
BEGIN:VEVENT
DTSTAMP:20260422T020040Z
DTSTART:20221031T183000Z
DTEND:20221031T194500Z
SUMMARY:Ethical considerations behind arbitration rules: the interplay be
 tween professional ethics and international arbitration
DESCRIPTION:By their nature\, international arbitrations involve lawyers\
 , clients and others from multiple jurisdictions where ethical and the w
 ay in which lawyers practice can vary widely. This panel considers the i
 mpact of these differences from the perspective of both counsel and arbi
 trators in seeking to acknowledge how these differences can be highlight
 ed to more efficiently resolve disputes.
LOCATION:Room 233\, Level 2
UID:42be64bd-c70e-4506-b73e-f8f2284ea702
END:VEVENT
END:VCALENDAR
