BEGIN:VCALENDAR
PRODID:-//Session events Calendar//IBA//EN
CALSCALE:GREGORIAN
VERSION:2.0
BEGIN:VEVENT
DTSTAMP:20260422T020005Z
DTSTART:20221031T183000Z
DTEND:20221031T194500Z
SUMMARY:The case for LGBT reparations: acknowledgement and remembrance
DESCRIPTION:This session will be a study of governmental actions taken to
  acknowledge historical discrimination against the LGBTI community. Is t
 here a case for reparations? How do governments across the globe come to
  terms with this history?
LOCATION:Room 235\, Level 2
UID:57a0b28e-6e60-4960-be25-b428fd9a8c96
END:VEVENT
END:VCALENDAR
