BEGIN:VCALENDAR
PRODID:-//Session events Calendar//IBA//EN
CALSCALE:GREGORIAN
VERSION:2.0
BEGIN:VEVENT
DTSTAMP:20260422T015905Z
DTSTART:20221101T133000Z
DTEND:20221101T163000Z
SUMMARY:50 ways to lose your clients
DESCRIPTION:In advance of the session (over the course of September/Octob
 er 2022)\, The Legal 500\, on behalf of the Law Firm Management Committe
 e\, will canvass GCs and law firms to gather questions that they want to
  ask the panel/s about the simple ways that you can lose clients. As a r
 esult\, the questions we will be asking will be editorially curated by P
 aul and myself\, to give the sessions the right structure\, but will be 
 tailored specifically to the audience. What then follows is a “conferenc
 e within a conference” the shorter sessions hold people’s attention\, an
 d a greater pool of speaker leads to diversity of thought and ideas.
LOCATION:Rooms 230-231\, Level 2
UID:2b219b02-e1d3-478f-beda-e867b934d324
END:VEVENT
END:VCALENDAR
