BEGIN:VCALENDAR
PRODID:-//Session events Calendar//IBA//EN
CALSCALE:GREGORIAN
VERSION:2.0
BEGIN:VEVENT
DTSTAMP:20260422T033522Z
DTSTART:20221102T120000Z
DTEND:20221102T131500Z
SUMMARY:Managing partners breakfast
DESCRIPTION:BreakfastsWe have been living through a global pandemic and a
  global economic recession. Where are we now? What have we learned? Wher
 e do we think we are headed?
LOCATION:Sunset Vista Ballroom C\, Level 4
UID:016ee857-c20e-4bda-ada5-bfef062e6be5
END:VEVENT
END:VCALENDAR
