BEGIN:VCALENDAR
PRODID:-//Session events Calendar//IBA//EN
CALSCALE:GREGORIAN
VERSION:2.0
BEGIN:VEVENT
DTSTAMP:20260422T020027Z
DTSTART:20221031T151500Z
DTEND:20221031T163000Z
SUMMARY:Lessons in effective online and hybrid learning: a practical hand
 s-on guide
DESCRIPTION:DiversityInclusionFrom an L&amp\;D perspective\, the difficul
 ties faced during the pandemic have made it clear that all organisations
  would be sensible to adopt more agile approaches to learning in order t
 o improve performance\, and embrace educational techniques that meet the
  opportunities and challenges of the adjusted world we now live in. One 
 of the many dilemmas of L&amp\;D is figuring out how to use advances in 
 technology as a means of engaging learners and improving access to learn
 ing for a more diverse audience with different needs and preferences. Th
 is session will be led by industry experts in learning design and delive
 ry who will provide an insight into how a digital approach to learning c
 an best serve learners of the future.
LOCATION:Room 232\, Level 2
UID:3eb376ba-1d3a-4864-bf2b-8db8b04fa86a
END:VEVENT
END:VCALENDAR
