BEGIN:VCALENDAR
PRODID:-//Session events Calendar//IBA//EN
CALSCALE:GREGORIAN
VERSION:2.0
BEGIN:VEVENT
DTSTAMP:20260422T020005Z
DTSTART:20221101T201500Z
DTEND:20221101T213000Z
SUMMARY:SUSTAINABILITY FOCUS  Pushing the sustainability agenda through t
 he legal profession
DESCRIPTION:ESG and sustainability are trending topics around the globe\,
  led by Green Finance and Climate Change fight. What are law firms and l
 aw schools doing about ESG factors? What are law firms and law schools d
 oing to be sustainable? This session will be a round table to address th
 ese questions.SustainabilityFocus\n\nSUSTAINABILITY FOCUS sessions marke
 d as such are part of the IBA Annual Conference 2022 sustainability focu
 s on Tuesday and Thursday\, grouping sessions discussing different aspec
 ts of ESG and sustainability across the different legal fields.\n
LOCATION:Room 210\, Level 2
UID:86a2ca68-5d0e-498e-986b-f5cdfc2d1818
END:VEVENT
END:VCALENDAR
